BEGIN:VCALENDAR
VERSION:2.0
PRODID:-//heatevt.com//NONSGML kigkonsult.se iCalcreator 2.41.92//
CALSCALE:GREGORIAN
METHOD:PUBLISH
UID:38306431-3663-4430-b530-356564386561
X-WR-CALNAME:iCagenda
X-WR-CALDESC:Event Management Extension for Joomla!
X-WR-RELCALID:3E26604A-50F4-4449-8B3E-E4F4932D05B5
X-WR-TIMEZONE:America/Chicago
BEGIN:VTIMEZONE
TZID:America/Chicago
TZUNTIL:20270314T080000Z
BEGIN:STANDARD
TZNAME:CST
DTSTART:20241103T020000
TZOFFSETFROM:-0500
TZOFFSETTO:-0600
RDATE:20251102T020000
RDATE:20261101T020000
END:STANDARD
BEGIN:DAYLIGHT
TZNAME:CDT
DTSTART:20250309T020000
TZOFFSETFROM:-0600
TZOFFSETTO:-0500
RDATE:20260308T020000
END:DAYLIGHT
END:VTIMEZONE
BEGIN:VEVENT
UID:62653635-6133-4462-a461-653532656238
DTSTAMP:20260424T104554Z
CATEGORIES:Board Meeting
CLASS:PUBLIC
DESCRIPTION:
DTSTART:20250812T180000Z
DTEND:20250812T190000Z
GEO:00;0
LOCATION:
ORGANIZER:
SEQUENCE:1
SUMMARY:H.E.A.T. Board Meeting - 20250812
TRANSP:OPAQUE
URL:https://www.heatevt.com/component/icagenda/3-h-e-a-t-board-meeting-2025
 0812?layout=vcal
END:VEVENT
END:VCALENDAR
